BEGIN:VCALENDAR
VERSION:2.0
PRODID:-//Harbor.vet - ECPv6.15.20//NONSGML v1.0//EN
CALSCALE:GREGORIAN
METHOD:PUBLISH
X-WR-CALNAME:Harbor.vet
X-ORIGINAL-URL:https://harbor.vet
X-WR-CALDESC:Events for Harbor.vet
REFRESH-INTERVAL;VALUE=DURATION:PT1H
X-Robots-Tag:noindex
X-PUBLISHED-TTL:PT1H
BEGIN:VTIMEZONE
TZID:America/Chicago
BEGIN:DAYLIGHT
TZOFFSETFROM:-0600
TZOFFSETTO:-0500
TZNAME:CDT
DTSTART:20250309T080000
END:DAYLIGHT
BEGIN:STANDARD
TZOFFSETFROM:-0500
TZOFFSETTO:-0600
TZNAME:CST
DTSTART:20251102T070000
END:STANDARD
BEGIN:DAYLIGHT
TZOFFSETFROM:-0600
TZOFFSETTO:-0500
TZNAME:CDT
DTSTART:20260308T080000
END:DAYLIGHT
BEGIN:STANDARD
TZOFFSETFROM:-0500
TZOFFSETTO:-0600
TZNAME:CST
DTSTART:20261101T070000
END:STANDARD
BEGIN:DAYLIGHT
TZOFFSETFROM:-0600
TZOFFSETTO:-0500
TZNAME:CDT
DTSTART:20270314T080000
END:DAYLIGHT
BEGIN:STANDARD
TZOFFSETFROM:-0500
TZOFFSETTO:-0600
TZNAME:CST
DTSTART:20271107T070000
END:STANDARD
END:VTIMEZONE
BEGIN:VTIMEZONE
TZID:America/New_York
BEGIN:DAYLIGHT
TZOFFSETFROM:-0500
TZOFFSETTO:-0400
TZNAME:EDT
DTSTART:20250309T070000
END:DAYLIGHT
BEGIN:STANDARD
TZOFFSETFROM:-0400
TZOFFSETTO:-0500
TZNAME:EST
DTSTART:20251102T060000
END:STANDARD
BEGIN:DAYLIGHT
TZOFFSETFROM:-0500
TZOFFSETTO:-0400
TZNAME:EDT
DTSTART:20260308T070000
END:DAYLIGHT
BEGIN:STANDARD
TZOFFSETFROM:-0400
TZOFFSETTO:-0500
TZNAME:EST
DTSTART:20261101T060000
END:STANDARD
BEGIN:DAYLIGHT
TZOFFSETFROM:-0500
TZOFFSETTO:-0400
TZNAME:EDT
DTSTART:20270314T070000
END:DAYLIGHT
BEGIN:STANDARD
TZOFFSETFROM:-0400
TZOFFSETTO:-0500
TZNAME:EST
DTSTART:20271107T060000
END:STANDARD
END:VTIMEZONE
BEGIN:VEVENT
DTSTART;TZID=America/Chicago:20260303T180000
DTEND;TZID=America/Chicago:20260303T190000
DTSTAMP:20260423T164420
CREATED:20260227T222311Z
LAST-MODIFIED:20260227T222311Z
UID:10000239-1772560800-1772564400@harbor.vet
SUMMARY:AI-Scribing: From Skeptic to Superuser
DESCRIPTION:Not RACE approved. \nIf you’ve ever wondered\, “Would this really help me?” or “I already use templates… how would AI-scribing help?”—this fast\, practical session is for you. We’ll demystify AI-scribe tools so you can move from cautious to confident\, saving time each visit without sacrificing medical quality or client trust. \nHosted by a roundtable of practicing colleagues. \nQUESTIONS WE’LL ANSWER: \nStructure & reliability: How do I know it will put my conversation into a template I like without needing me to rewrite everything? \nPrivacy & control: Is it always listening? What happens to recordings after the visit\, who can hear them\, and how long are they kept? What’s captured & how it’s filtered: Does it write down everything—swearing\, small talk\, venting? What actually lands in the medical record? \nWorkflow & access: How does it handle multiple pets in a visit? What if I choose the wrong template? Do I have to use my own phone? How can my techs help \n  \nREGISTER HERE >
URL:https://harbor.vet/event/ai-scribing-from-skeptic-to-superuser/
ATTACH;FMTTYPE=image/jpeg:https://harbor.vet/wp-content/uploads/2026/02/Copy-of-Triage-CE-Webinar.jpg
END:VEVENT
BEGIN:VEVENT
DTSTART;TZID=America/Chicago:20260324T180000
DTEND;TZID=America/Chicago:20260324T190000
DTSTAMP:20260423T164420
CREATED:20260310T145518Z
LAST-MODIFIED:20260310T164950Z
UID:10000240-1774375200-1774378800@harbor.vet
SUMMARY:This Cat is Peeing Outside the Box: Everyone’s Least Favorite Appointment
DESCRIPTION:RACE Approved for 1.5 hours of CE credit. \nCats really don’t have that many responsibilities\, so when they avoid their requirement to use the litter box it can be really frustrating! Is it medical? Is it behavioral? Is Mercury in retrograde? We’ll take this time to learn how to get to the root of the cat’s brain/bladder connection\, and how to get them back to thinking inside the box. \n  \nThrough this virtual event\, participants will:\n1. Learn how to ask the right questions to get the best information from cat owners\n2. Recognize the role of anxiety in feline litter box issues\n3. Improve expectations for managing inappropriate urination\n4. Discuss multi-modal treatments \n  \nREGISTER HERE >
URL:https://harbor.vet/event/this-cat-is-peeing-outside-the-box-everyones-least-favorite-appointment/
ATTACH;FMTTYPE=image/jpeg:https://harbor.vet/wp-content/uploads/2026/03/Outside-the-Box-Event-Banner.jpg
END:VEVENT
BEGIN:VEVENT
DTSTART;TZID=America/New_York:20260330T180000
DTEND;TZID=America/New_York:20260330T190000
DTSTAMP:20260423T164420
CREATED:20260223T215432Z
LAST-MODIFIED:20260223T215432Z
UID:10000238-1774893600-1774897200@harbor.vet
SUMMARY:HBE Hackathon!
DESCRIPTION:Join us for a night of innovation\, teamwork\, and fun! The Spring HBE Hackathon brings together students to solve real-world challenges in veterinary medicine. Collaborate\, create\, and compete for prizes while networking with industry leaders. \nThe 1st place team with the strongest submission during the Hackathon event will receive a cash prize! 2nd and 3rd place teams will score exciting custom swag—because solving real-world problems should look good too. \n**Please note teams should include a minimum of 2 and a maximum of 5 members.** \nREGISTER YOUR TEAM HERE >
URL:https://harbor.vet/event/hbe-hackathon/
ATTACH;FMTTYPE=image/jpeg:https://harbor.vet/wp-content/uploads/2025/03/springhackathon.jpg
END:VEVENT
END:VCALENDAR