BEGIN:VCALENDAR
VERSION:2.0
PRODID:-//Harbor.vet - ECPv6.15.20//NONSGML v1.0//EN
CALSCALE:GREGORIAN
METHOD:PUBLISH
X-WR-CALNAME:Harbor.vet
X-ORIGINAL-URL:https://harbor.vet
X-WR-CALDESC:Events for Harbor.vet
REFRESH-INTERVAL;VALUE=DURATION:PT1H
X-Robots-Tag:noindex
X-PUBLISHED-TTL:PT1H
BEGIN:VTIMEZONE
TZID:America/New_York
BEGIN:DAYLIGHT
TZOFFSETFROM:-0500
TZOFFSETTO:-0400
TZNAME:EDT
DTSTART:20250309T070000
END:DAYLIGHT
BEGIN:STANDARD
TZOFFSETFROM:-0400
TZOFFSETTO:-0500
TZNAME:EST
DTSTART:20251102T060000
END:STANDARD
BEGIN:DAYLIGHT
TZOFFSETFROM:-0500
TZOFFSETTO:-0400
TZNAME:EDT
DTSTART:20260308T070000
END:DAYLIGHT
BEGIN:STANDARD
TZOFFSETFROM:-0400
TZOFFSETTO:-0500
TZNAME:EST
DTSTART:20261101T060000
END:STANDARD
BEGIN:DAYLIGHT
TZOFFSETFROM:-0500
TZOFFSETTO:-0400
TZNAME:EDT
DTSTART:20270314T070000
END:DAYLIGHT
BEGIN:STANDARD
TZOFFSETFROM:-0400
TZOFFSETTO:-0500
TZNAME:EST
DTSTART:20271107T060000
END:STANDARD
END:VTIMEZONE
BEGIN:VTIMEZONE
TZID:America/Chicago
BEGIN:DAYLIGHT
TZOFFSETFROM:-0600
TZOFFSETTO:-0500
TZNAME:CDT
DTSTART:20250309T080000
END:DAYLIGHT
BEGIN:STANDARD
TZOFFSETFROM:-0500
TZOFFSETTO:-0600
TZNAME:CST
DTSTART:20251102T070000
END:STANDARD
BEGIN:DAYLIGHT
TZOFFSETFROM:-0600
TZOFFSETTO:-0500
TZNAME:CDT
DTSTART:20260308T080000
END:DAYLIGHT
BEGIN:STANDARD
TZOFFSETFROM:-0500
TZOFFSETTO:-0600
TZNAME:CST
DTSTART:20261101T070000
END:STANDARD
BEGIN:DAYLIGHT
TZOFFSETFROM:-0600
TZOFFSETTO:-0500
TZNAME:CDT
DTSTART:20270314T080000
END:DAYLIGHT
BEGIN:STANDARD
TZOFFSETFROM:-0500
TZOFFSETTO:-0600
TZNAME:CST
DTSTART:20271107T070000
END:STANDARD
END:VTIMEZONE
BEGIN:VEVENT
DTSTART;VALUE=DATE:20260203
DTEND;VALUE=DATE:20260205
DTSTAMP:20260423T212615
CREATED:20260102T191253Z
LAST-MODIFIED:20260129T003507Z
UID:10000232-1770076800-1770249599@harbor.vet
SUMMARY:Harbor Communication Workshop
DESCRIPTION:Most veterinarians weren’t taught the one skill they use all day\, every day: how to effectively handle challenging conversations. \nIn a hands-on learning lab\, you’ll play with practical\, evidence-based communication tools for the conversations that usually drain you the most\, so you can keep doing great medicine\, protect your energy\, and actually get home on time. Using real-world scenarios\, you’ll learn simple\, memorable frameworks and practice with experienced communication coaches who’ve been exactly where you are—doing your best to care for patients by really connecting with the humans who love them\, all within in the chaos of a busy practice. \nBy the end of this fun and interactive workshop\, you will be able to: \n\nGet to the real story faster. Learn how to ask questions and listen in a way that saves time\, prevents missed details\, and keeps appointments from running off the rails.\nBuild trust + get client buy-in. All without feeling like you have to over-explain\, defend every estimate\, or spend your lunch break or evenings on call backs.\nHandle tough conversations. Whether it’s an upset pet owner or a struggling team member — with confidence\, calm\, and clarity.\nTurn everyday chaos into connection. Learn to use communication tools that reduce client pushback\, improve outcomes\, and make your day run smoother.\nFind joy working with your team. Learn to understand how your communication style affects others — so you can prevent tension\, lower stress\, and make the hospital a place people actually like working in.\n\nRACE-approved for 8 hours of CE. $1\,500 per person for non-Suveto doctors. \n  \nFILL OUT THE INTEREST FORM BELOW \nWe will reach out with full registration details and event information. \n  \n\n\n                \n                        \n                            Communication Workshop Interest From\n                             \n                        \n                        First Name(Required)Last Name(Required)Email(Required)\n                            \n                        PhoneRole\n			\n					\n					Associate Veterinarian\n			\n			\n					\n					Medical Director\n			\n			\n					\n					Vet Student
URL:https://harbor.vet/event/harbor-communication-workshop/
LOCATION:Harbor Home Office\, 441 E Hector St.\, Conshohocken\, PA\, 9428\, United States
CATEGORIES:Harbor GO
ATTACH;FMTTYPE=image/jpeg:https://harbor.vet/wp-content/uploads/2026/01/Copy-of-Ultrasound-Essentials-Event-Banner.jpg
ORGANIZER;CN="Rob Trimble DVM":MAILTO:rob.trimble@harbor.vet
END:VEVENT
BEGIN:VEVENT
DTSTART;TZID=America/Chicago:20260224T190000
DTEND;TZID=America/Chicago:20260224T200000
DTSTAMP:20260423T212615
CREATED:20260211T173320Z
LAST-MODIFIED:20260216T200230Z
UID:10000235-1771959600-1771963200@harbor.vet
SUMMARY:Harbor NAVLE® Prep Trivia Night!
DESCRIPTION:Ready for another round?\nLet’s run it back! Join us for NAVLE® Trivia Night\nThird and Fourth-year veterinary students\, the big exam is almost here\, and we’re making sure we give you everything we’ve got to get you prepared. That’s why we’re partnering with Zuku Review® for a another NAVLE® Trivia Night! Join us on Tuesday\, February 24th from 8:00 pm – 9:00 pm EST\, and test your knowledge at our NAVLE® Trivia Night led by Dr. Rob Trimble. Oh\, and did we mention? You’ll have a chance to win over $500 worth of prizes\, from NAVLE® prep subscriptions from Zuku Review®\, swag\, and more! Made it out last time? Come again! We’ll be bringing a whole new set of questions for this round. So\, what are you waiting for? Invite your friends and form a team\, or join a virtual table on the day of the event on Zoom. Let’s GO learn and laugh!\nREGISTER HERE > \n\n\nREGISTER HERE >
URL:https://harbor.vet/event/harbor-navle-prep-trivia-night-2/
CATEGORIES:Navle
ATTACH;FMTTYPE=image/png:https://harbor.vet/wp-content/uploads/2026/02/NAVLEBusiness-Event-Banner-6.png
END:VEVENT
BEGIN:VEVENT
DTSTART;TZID=America/Chicago:20260226T180000
DTEND;TZID=America/Chicago:20260226T190000
DTSTAMP:20260423T212615
CREATED:20260219T155435Z
LAST-MODIFIED:20260219T162324Z
UID:10000237-1772128800-1772132400@harbor.vet
SUMMARY:Triage: How to Handle the Surprise Visit
DESCRIPTION:Even in general practice\, unexpected urgent patients may arrive. It is important that technicians are able to identify what are true emergency cases. This lecture hosted by Amy Newfield\, MS\, CVT\, VTS (ECC)\, focuses on how to triage a patient\, reviews the different triage techniques available\, and also covers how to triage multiple species (domestic\, exotic\, wildlife). \nThrough this virtual event\, participants will: \n\nLearn the most important questions to ask a pet owner in a triage situation\nUnderstand which parameters are crucial to measure and why\nReview the most common differentials for the common emergent presentations\nReview unique triage cases\n\nREGISTER HERE >
URL:https://harbor.vet/event/triage-how-to-handle-the-surprise-visit/
ATTACH;FMTTYPE=image/jpeg:https://harbor.vet/wp-content/uploads/2026/02/How-to-Handle-the-Surprise-Visit-Event-Banner.jpg
END:VEVENT
BEGIN:VEVENT
DTSTART;TZID=America/Chicago:20260226T190000
DTEND;TZID=America/Chicago:20260226T200000
DTSTAMP:20260423T212615
CREATED:20260211T172753Z
LAST-MODIFIED:20260216T195901Z
UID:10000234-1772132400-1772136000@harbor.vet
SUMMARY:Business & Ethics Topics for NAVLE®  Success
DESCRIPTION:Join Harbor for a special webinar with Zuku Review® \, designed exclusively for veterinary students preparing for the NAVLE® . In partnership with Dr. Steve McLaughlin\, Founder of Zuku Review® \, this session will focus on building confidence and strengthening your understanding of business and ethics—key topics often not fully covered in veterinary school.\n\nSpots are limited. Please register with your .edu email to reserve your seat today! \nREGISTER HERE
URL:https://harbor.vet/event/business-ethics-navle-webinar/
CATEGORIES:Navle
ATTACH;FMTTYPE=image/jpeg:https://harbor.vet/wp-content/uploads/2026/02/NAVLEBusiness-Event-Banner.jpg
LOCATION:
END:VEVENT
END:VCALENDAR