BEGIN:VCALENDAR
VERSION:2.0
PRODID:-//Harbor.vet - ECPv6.15.20//NONSGML v1.0//EN
CALSCALE:GREGORIAN
METHOD:PUBLISH
X-WR-CALNAME:Harbor.vet
X-ORIGINAL-URL:https://harbor.vet
X-WR-CALDESC:Events for Harbor.vet
REFRESH-INTERVAL;VALUE=DURATION:PT1H
X-Robots-Tag:noindex
X-PUBLISHED-TTL:PT1H
BEGIN:VTIMEZONE
TZID:America/New_York
BEGIN:DAYLIGHT
TZOFFSETFROM:-0500
TZOFFSETTO:-0400
TZNAME:EDT
DTSTART:20220313T070000
END:DAYLIGHT
BEGIN:STANDARD
TZOFFSETFROM:-0400
TZOFFSETTO:-0500
TZNAME:EST
DTSTART:20221106T060000
END:STANDARD
BEGIN:DAYLIGHT
TZOFFSETFROM:-0500
TZOFFSETTO:-0400
TZNAME:EDT
DTSTART:20230312T070000
END:DAYLIGHT
BEGIN:STANDARD
TZOFFSETFROM:-0400
TZOFFSETTO:-0500
TZNAME:EST
DTSTART:20231105T060000
END:STANDARD
BEGIN:DAYLIGHT
TZOFFSETFROM:-0500
TZOFFSETTO:-0400
TZNAME:EDT
DTSTART:20240310T070000
END:DAYLIGHT
BEGIN:STANDARD
TZOFFSETFROM:-0400
TZOFFSETTO:-0500
TZNAME:EST
DTSTART:20241103T060000
END:STANDARD
END:VTIMEZONE
BEGIN:VTIMEZONE
TZID:America/Chicago
BEGIN:DAYLIGHT
TZOFFSETFROM:-0600
TZOFFSETTO:-0500
TZNAME:CDT
DTSTART:20220313T080000
END:DAYLIGHT
BEGIN:STANDARD
TZOFFSETFROM:-0500
TZOFFSETTO:-0600
TZNAME:CST
DTSTART:20221106T070000
END:STANDARD
BEGIN:DAYLIGHT
TZOFFSETFROM:-0600
TZOFFSETTO:-0500
TZNAME:CDT
DTSTART:20230312T080000
END:DAYLIGHT
BEGIN:STANDARD
TZOFFSETFROM:-0500
TZOFFSETTO:-0600
TZNAME:CST
DTSTART:20231105T070000
END:STANDARD
BEGIN:DAYLIGHT
TZOFFSETFROM:-0600
TZOFFSETTO:-0500
TZNAME:CDT
DTSTART:20240310T080000
END:DAYLIGHT
BEGIN:STANDARD
TZOFFSETFROM:-0500
TZOFFSETTO:-0600
TZNAME:CST
DTSTART:20241103T070000
END:STANDARD
END:VTIMEZONE
BEGIN:VTIMEZONE
TZID:Asia/Kolkata
BEGIN:STANDARD
TZOFFSETFROM:+0530
TZOFFSETTO:+0530
TZNAME:IST
DTSTART:20220101T000000
END:STANDARD
END:VTIMEZONE
BEGIN:VEVENT
DTSTART;TZID=America/New_York:20231004T103000
DTEND;TZID=America/New_York:20231004T120000
DTSTAMP:20260423T100428
CREATED:20230703T192842Z
LAST-MODIFIED:20230703T195758Z
UID:10000165-1696415400-1696420800@harbor.vet
SUMMARY:Harbor GO Meetup Schedule - Class of 2025
DESCRIPTION:
URL:https://harbor.vet/event/harbor-go-meetup-schedule-class-of-2025/2023-10-04/
LOCATION:Microsoft Teams
CATEGORIES:Harbor GO
ATTACH;FMTTYPE=image/jpeg:https://harbor.vet/wp-content/uploads/2023/07/GO-Google-Form-header-image.jpg
ORGANIZER;CN="Rob Trimble DVM":MAILTO:rob.trimble@harbor.vet
END:VEVENT
BEGIN:VEVENT
DTSTART;TZID=America/New_York:20231005T200000
DTEND;TZID=America/New_York:20231005T211500
DTSTAMP:20260423T100428
CREATED:20230529T164217Z
LAST-MODIFIED:20230529T164219Z
UID:10000159-1696536000-1696540500@harbor.vet
SUMMARY:Leaders In Training
DESCRIPTION:Join us on this journey and be inspired by a vision of a better way to lead. More and more veterinary professionals are recognizing the need to call into question some of the long-accepted notions around leadership that are no longer relevant. They are intentionally challenging the status quo and creating inspired workplaces through the power of innovative new approaches to leadership. \nZOOM LINK to join us at 8pm ET: \nhttps://zoom.us/j/95355552478
URL:https://harbor.vet/event/leaders-in-training-2-2-2/2023-10-05/
ATTACH;FMTTYPE=image/jpeg:https://harbor.vet/wp-content/uploads/2023/02/LIT_Logo2-scaled.jpg
ORGANIZER;CN="Jeff Thoren":MAILTO:jeff@giftedleaders.com
END:VEVENT
BEGIN:VEVENT
DTSTART;TZID=America/New_York:20231012T190000
DTEND;TZID=America/New_York:20231012T210000
DTSTAMP:20260423T100428
CREATED:20230906T160346Z
LAST-MODIFIED:20230906T160346Z
UID:10000191-1697137200-1697144400@harbor.vet
SUMMARY:Student Loan Webinar: Climbing Mt. Debt | Repay Wiser
DESCRIPTION:Register HERE> \nNavigating interest\, payments and changes to your student loans? \nThe pandemic forbearance benefits have ended. Interest has started and payments are due this October. A number of changes have taken effect already and more are coming\, like the one-time forgiveness count adjustment. Register for this webinar and bring your questions for LIVE Q&A. \nJoin Tony Bartels DVM\, MBA (a leading authority on U.S. veterinary student debt) for a review of the current and future changes you need to know. Then we’ll turn the floor over to you to go through your student loan and repayment questions. \nDuring this Climbing Mt. Debt session\, Tony demystifies recent changes\, and new repayment strategies: \n1) Consolidation and the one-time forgiveness count adjustment (limited time only) \n2) Income-Driven recertification details \n3) IDR changes\, including the new SAVE plan \n4) Whether or not to change plans and when \n5) Your student loan and repayment questions \nRegister for this first Climbing Mt. Debt webinar after payments resume. Make sure you submit your primary student debt concern in the registration and join us for the LIVE Q&A during the session. \nCE Credits: \nRACE Approved for AAVSB and New York State for 2 credits \nWhy register? \nBy registering you will receive a link to join this webinar\, a recording of the webinar\, and additional information. You will also stay up to date on student loan and repayment topics\, get exclusive downloads\, and beneficial VIN Foundation news. \nRegister HERE>
URL:https://harbor.vet/event/student-loan-webinar-climbing-mt-debt-repay-wiser/
ATTACH;FMTTYPE=image/jpeg:https://harbor.vet/wp-content/uploads/2023/09/Copy-of-Suveto.com-LVT-Social-Event-Calendar-1-scaled.jpg
END:VEVENT
BEGIN:VEVENT
DTSTART;TZID=America/Chicago:20231019T190000
DTEND;TZID=America/Chicago:20231019T200000
DTSTAMP:20260423T100428
CREATED:20230824T172452Z
LAST-MODIFIED:20230929T181657Z
UID:10000189-1697742000-1697745600@harbor.vet
SUMMARY:NAVLE Trivia Night
DESCRIPTION:Prepare for NAVLE with fun and friends! It’s almost time for the big exam\, and to help you get ready\, we’re hosting a NAVLE trivia night and giving away over $500 in prizes. Test your knowledge with NAVLE sample questions led by Dr. Rob Trimble. Grab some friends and form a team or join a virtual table on the day of the event on Remo. Let’s GO learn and laugh! \nRegister here>
URL:https://harbor.vet/event/navle-trivia-night/
ATTACH;FMTTYPE=image/jpeg:https://harbor.vet/wp-content/uploads/2023/08/Harbor_NAVLE_Trivia_2.jpg
END:VEVENT
BEGIN:VEVENT
DTSTART;TZID=Asia/Kolkata:20231027T173000
DTEND;TZID=Asia/Kolkata:20231027T173000
DTSTAMP:20260423T100428
CREATED:20231024T192442Z
LAST-MODIFIED:20231024T192442Z
UID:10000196-1698427800-1698427800@harbor.vet
SUMMARY:October HBE
DESCRIPTION:Come join us on October 27th @ 5:30 at the Rookery in downtown Pomona for appetizers and drinks (the first drink and appetizers will be on us!) and to discuss this months topic: Macro Trends
URL:https://harbor.vet/event/october-hbe/
LOCATION:171 W 2nd St.\, 171 W 2nd St.\, Pomona\, 91766\, United States
CATEGORIES:HBE Western
ATTACH;FMTTYPE=image/png:https://harbor.vet/wp-content/uploads/2023/10/Screen-Shot-2023-10-17-at-2.03.12-PM.png
END:VEVENT
END:VCALENDAR