BEGIN:VCALENDAR
VERSION:2.0
PRODID:-//Harbor.vet - ECPv6.15.20//NONSGML v1.0//EN
CALSCALE:GREGORIAN
METHOD:PUBLISH
X-WR-CALNAME:Harbor.vet
X-ORIGINAL-URL:https://harbor.vet
X-WR-CALDESC:Events for Harbor.vet
REFRESH-INTERVAL;VALUE=DURATION:PT1H
X-Robots-Tag:noindex
X-PUBLISHED-TTL:PT1H
BEGIN:VTIMEZONE
TZID:America/New_York
BEGIN:DAYLIGHT
TZOFFSETFROM:-0500
TZOFFSETTO:-0400
TZNAME:EDT
DTSTART:20220313T070000
END:DAYLIGHT
BEGIN:STANDARD
TZOFFSETFROM:-0400
TZOFFSETTO:-0500
TZNAME:EST
DTSTART:20221106T060000
END:STANDARD
BEGIN:DAYLIGHT
TZOFFSETFROM:-0500
TZOFFSETTO:-0400
TZNAME:EDT
DTSTART:20230312T070000
END:DAYLIGHT
BEGIN:STANDARD
TZOFFSETFROM:-0400
TZOFFSETTO:-0500
TZNAME:EST
DTSTART:20231105T060000
END:STANDARD
BEGIN:DAYLIGHT
TZOFFSETFROM:-0500
TZOFFSETTO:-0400
TZNAME:EDT
DTSTART:20240310T070000
END:DAYLIGHT
BEGIN:STANDARD
TZOFFSETFROM:-0400
TZOFFSETTO:-0500
TZNAME:EST
DTSTART:20241103T060000
END:STANDARD
END:VTIMEZONE
BEGIN:VTIMEZONE
TZID:America/Chicago
BEGIN:DAYLIGHT
TZOFFSETFROM:-0600
TZOFFSETTO:-0500
TZNAME:CDT
DTSTART:20220313T080000
END:DAYLIGHT
BEGIN:STANDARD
TZOFFSETFROM:-0500
TZOFFSETTO:-0600
TZNAME:CST
DTSTART:20221106T070000
END:STANDARD
BEGIN:DAYLIGHT
TZOFFSETFROM:-0600
TZOFFSETTO:-0500
TZNAME:CDT
DTSTART:20230312T080000
END:DAYLIGHT
BEGIN:STANDARD
TZOFFSETFROM:-0500
TZOFFSETTO:-0600
TZNAME:CST
DTSTART:20231105T070000
END:STANDARD
BEGIN:DAYLIGHT
TZOFFSETFROM:-0600
TZOFFSETTO:-0500
TZNAME:CDT
DTSTART:20240310T080000
END:DAYLIGHT
BEGIN:STANDARD
TZOFFSETFROM:-0500
TZOFFSETTO:-0600
TZNAME:CST
DTSTART:20241103T070000
END:STANDARD
END:VTIMEZONE
BEGIN:VEVENT
DTSTART;TZID=America/New_York:20230906T103000
DTEND;TZID=America/New_York:20230906T120000
DTSTAMP:20260423T153057
CREATED:20230703T192842Z
LAST-MODIFIED:20230703T195758Z
UID:10000164-1693996200-1694001600@harbor.vet
SUMMARY:Harbor GO Meetup Schedule - Class of 2025
DESCRIPTION:
URL:https://harbor.vet/event/harbor-go-meetup-schedule-class-of-2025/2023-09-06/
LOCATION:Microsoft Teams
CATEGORIES:Harbor GO
ATTACH;FMTTYPE=image/jpeg:https://harbor.vet/wp-content/uploads/2023/07/GO-Google-Form-header-image.jpg
ORGANIZER;CN="Rob Trimble DVM":MAILTO:rob.trimble@harbor.vet
END:VEVENT
BEGIN:VEVENT
DTSTART;TZID=America/New_York:20230907T200000
DTEND;TZID=America/New_York:20230907T211500
DTSTAMP:20260423T153057
CREATED:20230529T164217Z
LAST-MODIFIED:20230529T164219Z
UID:10000158-1694116800-1694121300@harbor.vet
SUMMARY:Leaders In Training
DESCRIPTION:Join us on this journey and be inspired by a vision of a better way to lead. More and more veterinary professionals are recognizing the need to call into question some of the long-accepted notions around leadership that are no longer relevant. They are intentionally challenging the status quo and creating inspired workplaces through the power of innovative new approaches to leadership. \nZOOM LINK to join us at 8pm ET: \nhttps://zoom.us/j/95355552478
URL:https://harbor.vet/event/leaders-in-training-2-2-2/2023-09-07/
ATTACH;FMTTYPE=image/jpeg:https://harbor.vet/wp-content/uploads/2023/02/LIT_Logo2-scaled.jpg
ORGANIZER;CN="Jeff Thoren":MAILTO:jeff@giftedleaders.com
END:VEVENT
BEGIN:VEVENT
DTSTART;TZID=America/Chicago:20230928T190000
DTEND;TZID=America/Chicago:20230928T200000
DTSTAMP:20260423T153057
CREATED:20230825T205749Z
LAST-MODIFIED:20230906T152555Z
UID:10000190-1695927600-1695931200@harbor.vet
SUMMARY:NAVLE Trivia Night
DESCRIPTION:Prepare for NAVLE with fun and friends! It’s almost time for the big exam\, and to help you get ready\, we’re hosting a NAVLE trivia night and giving away over $500 in prizes. Test your knowledge with NAVLE sample questions from Zuku Review led by Dr. Rob Trimble. Grab some friends and form a team or join a virtual table on the day of the event on Remo. Let’s GO learn and laugh! \n  \nRegister here>
URL:https://harbor.vet/event/navle-trivia-night-2/
ATTACH;FMTTYPE=image/jpeg:https://harbor.vet/wp-content/uploads/2023/08/Harbor_NAVLE_Trivia_2.jpg
END:VEVENT
END:VCALENDAR