BEGIN:VCALENDAR
VERSION:2.0
PRODID:-//Harbor.vet - ECPv6.15.20//NONSGML v1.0//EN
CALSCALE:GREGORIAN
METHOD:PUBLISH
X-WR-CALNAME:Harbor.vet
X-ORIGINAL-URL:https://harbor.vet
X-WR-CALDESC:Events for Harbor.vet
REFRESH-INTERVAL;VALUE=DURATION:PT1H
X-Robots-Tag:noindex
X-PUBLISHED-TTL:PT1H
BEGIN:VTIMEZONE
TZID:America/New_York
BEGIN:DAYLIGHT
TZOFFSETFROM:-0500
TZOFFSETTO:-0400
TZNAME:EDT
DTSTART:20230312T070000
END:DAYLIGHT
BEGIN:STANDARD
TZOFFSETFROM:-0400
TZOFFSETTO:-0500
TZNAME:EST
DTSTART:20231105T060000
END:STANDARD
BEGIN:DAYLIGHT
TZOFFSETFROM:-0500
TZOFFSETTO:-0400
TZNAME:EDT
DTSTART:20240310T070000
END:DAYLIGHT
BEGIN:STANDARD
TZOFFSETFROM:-0400
TZOFFSETTO:-0500
TZNAME:EST
DTSTART:20241103T060000
END:STANDARD
BEGIN:DAYLIGHT
TZOFFSETFROM:-0500
TZOFFSETTO:-0400
TZNAME:EDT
DTSTART:20250309T070000
END:DAYLIGHT
BEGIN:STANDARD
TZOFFSETFROM:-0400
TZOFFSETTO:-0500
TZNAME:EST
DTSTART:20251102T060000
END:STANDARD
END:VTIMEZONE
BEGIN:VEVENT
DTSTART;TZID=America/New_York:20240129T170000
DTEND;TZID=America/New_York:20240129T190000
DTSTAMP:20260423T081437
CREATED:20240124T161602Z
LAST-MODIFIED:20240124T161602Z
UID:10000202-1706547600-1706554800@harbor.vet
SUMMARY:HBE January Session
DESCRIPTION:Come along to the first Harbour Business Experience Session of 2024!\nLocation: SLC DL Room\nTime 5-7pm\nQR code to be posted on RVC Hub!
URL:https://harbor.vet/event/hbe-january-session/
LOCATION:Royal Veterinary College: Hawkshead Campus\, Hawkshead Lane\, Brookmans Park\, Hatfield\, AL9 7TA\, United Kingdom
CATEGORIES:HBE Royal Veterinary
END:VEVENT
END:VCALENDAR